BEGIN:VCALENDAR
VERSION:2.0
PRODID:-//wp-events-plugin.com//7.2.3.1//EN
BEGIN:VEVENT
UID:2@plsw.org
DTSTART:20231102T070000Z
DTEND:20231103T210000Z
DTSTAMP:20231003T195149Z
URL:https://www.plsw.org/events/fall-tech-conference-and-annual-meeting/
SUMMARY:P.L.S.W. Technical Session
DESCRIPTION:November 2 - 3\, 2023 \n\nWhere: The Ramkota Hotel\, Casper\, W
 Y\n\nSpeaker: Wendy Lathrop\n\nTopics: FEMA Topics (to include technical a
 spects of updating maps and recent changes in the NFIP) "Title Commitments
  and Reports: What's in Them and Why We Care" "To Accept or Not to Accept\
 , That is the Question"\n\nRamokta will only hold block room rates until O
 ctober 3rd. Make your reservation early.\n\n\nDownlod Info &amp\; Registra
 tion Form\n\n\nOnline Tech Session Registration\n\n\nHotel Booking\n\n\nFo
 r payment AFTER Registration –\nMember – $155\nIncludes $5 online paym
 ent fee\nNon-Member – $230\nIncludes $5 online payment fee\nAffiliate Me
 mber - $105\nIncludes $5 online payment fee\n
END:VEVENT
END:VCALENDAR